BEGIN:VCALENDAR
VERSION:2.0
PRODID:-//Steamboat Golf Club - ECPv6.15.18//NONSGML v1.0//EN
CALSCALE:GREGORIAN
METHOD:PUBLISH
X-ORIGINAL-URL:https://www.steamboatgolfclub.com
X-WR-CALDESC:Events for Steamboat Golf Club
REFRESH-INTERVAL;VALUE=DURATION:PT1H
X-Robots-Tag:noindex
X-PUBLISHED-TTL:PT1H
BEGIN:VTIMEZONE
TZID:America/Denver
BEGIN:DAYLIGHT
TZOFFSETFROM:-0700
TZOFFSETTO:-0600
TZNAME:MDT
DTSTART:20240310T090000
END:DAYLIGHT
BEGIN:STANDARD
TZOFFSETFROM:-0600
TZOFFSETTO:-0700
TZNAME:MST
DTSTART:20241103T080000
END:STANDARD
BEGIN:DAYLIGHT
TZOFFSETFROM:-0700
TZOFFSETTO:-0600
TZNAME:MDT
DTSTART:20250309T090000
END:DAYLIGHT
BEGIN:STANDARD
TZOFFSETFROM:-0600
TZOFFSETTO:-0700
TZNAME:MST
DTSTART:20251102T080000
END:STANDARD
BEGIN:DAYLIGHT
TZOFFSETFROM:-0700
TZOFFSETTO:-0600
TZNAME:MDT
DTSTART:20260308T090000
END:DAYLIGHT
BEGIN:STANDARD
TZOFFSETFROM:-0600
TZOFFSETTO:-0700
TZNAME:MST
DTSTART:20261101T080000
END:STANDARD
END:VTIMEZONE
BEGIN:VEVENT
DTSTART;TZID=America/Denver:20250806T083000
DTEND;TZID=America/Denver:20250806T123000
DTSTAMP:20260421T065414
CREATED:20250523T145528Z
LAST-MODIFIED:20250612T190927Z
UID:10000048-1754469000-1754483400@www.steamboatgolfclub.com
SUMMARY:SGC Vs. Grand Lake @ Grand Lake (Men's Club Event)
DESCRIPTION:Steamboat Golf Club Men’s Club will be challenging Grand Lake’s Men’s Club in this annual event @ Grand Lake Golf Club on Wednesday\, August 6th. \n18-Hole Tournament \nShotgun Start @ 8:30AM – golfers are asked to arrive before 8AM to check in and get organized. \nEntry Fee will be $60 (paid only by the Grand Lake participants) – Green Fees\, Cart and Lunch included \n2-Man Net Best Ball Match Play Format \nNet/Gross skins will be optional for $5 each \nScoring for the tournament will allow for 3 available points for each 4-some (1 point for each 9 and 1 point for the 18) \nRegistration for the tournament is now available by signing up on the sheet in the hallway or by calling the clubhouse. We will have a maximum # of 24 participants from our Men’s Club. \nThis event will not effect our Tee Sheet.
URL:https://www.steamboatgolfclub.com/event/sgc-vs-grand-lake-grand-lake-mens-club-event/
END:VEVENT
END:VCALENDAR