BEGIN:VCALENDAR
VERSION:2.0
PRODID:-//Steamboat Golf Club - ECPv6.15.18//NONSGML v1.0//EN
CALSCALE:GREGORIAN
METHOD:PUBLISH
X-ORIGINAL-URL:https://www.steamboatgolfclub.com
X-WR-CALDESC:Events for Steamboat Golf Club
REFRESH-INTERVAL;VALUE=DURATION:PT1H
X-Robots-Tag:noindex
X-PUBLISHED-TTL:PT1H
BEGIN:VTIMEZONE
TZID:America/Denver
BEGIN:DAYLIGHT
TZOFFSETFROM:-0700
TZOFFSETTO:-0600
TZNAME:MDT
DTSTART:20240310T090000
END:DAYLIGHT
BEGIN:STANDARD
TZOFFSETFROM:-0600
TZOFFSETTO:-0700
TZNAME:MST
DTSTART:20241103T080000
END:STANDARD
BEGIN:DAYLIGHT
TZOFFSETFROM:-0700
TZOFFSETTO:-0600
TZNAME:MDT
DTSTART:20250309T090000
END:DAYLIGHT
BEGIN:STANDARD
TZOFFSETFROM:-0600
TZOFFSETTO:-0700
TZNAME:MST
DTSTART:20251102T080000
END:STANDARD
BEGIN:DAYLIGHT
TZOFFSETFROM:-0700
TZOFFSETTO:-0600
TZNAME:MDT
DTSTART:20260308T090000
END:DAYLIGHT
BEGIN:STANDARD
TZOFFSETFROM:-0600
TZOFFSETTO:-0700
TZNAME:MST
DTSTART:20261101T080000
END:STANDARD
END:VTIMEZONE
BEGIN:VEVENT
DTSTART;TZID=America/Denver:20250809T080000
DTEND;TZID=America/Denver:20250809T130000
DTSTAMP:20260421T065535
CREATED:20250525T160344Z
LAST-MODIFIED:20250612T190759Z
UID:10000051-1754726400-1754744400@www.steamboatgolfclub.com
SUMMARY:Two-Person Best Ball Tournament (Open to Public)
DESCRIPTION:Steamboat Golf Club will be hosting it’s Annual Two-Person Best Ball Tournament on Saturday\, August 9th. \nShotgun start at 8:00AM \n18-Hole Tournament \n2-Person Team Best Ball (Each player plays their own ball – best score per hole of the 2-person team) \n$120 Entry Per Team (Does Not Include Green Fees) – LUNCH INCLUDED! \nPayouts for 1st & 2nd Gross & Net – Shop Credit \n$10 Gross and $10 Net Optional Individual Skins – Cash Payouts \nOpen to the public but in order to compete in the “Net” scoring\, players must have a USGA/GHIN Handicap. \nRegistration is now open by signing up in the hallway at the clubhouse or by calling the clubhouse.. \nTee Times will be back open to the public on this day starting at 1PM
URL:https://www.steamboatgolfclub.com/event/two-person-best-ball-tournament-open-to-public/
LOCATION:SGC\, HWY 40\, SS\, 80487
END:VEVENT
END:VCALENDAR