BEGIN:VCALENDAR
VERSION:2.0
PRODID:-//Steamboat Golf Club - ECPv6.15.18//NONSGML v1.0//EN
CALSCALE:GREGORIAN
METHOD:PUBLISH
X-WR-CALNAME:Steamboat Golf Club
X-ORIGINAL-URL:https://www.steamboatgolfclub.com
X-WR-CALDESC:Events for Steamboat Golf Club
REFRESH-INTERVAL;VALUE=DURATION:PT1H
X-Robots-Tag:noindex
X-PUBLISHED-TTL:PT1H
BEGIN:VTIMEZONE
TZID:America/Denver
BEGIN:DAYLIGHT
TZOFFSETFROM:-0700
TZOFFSETTO:-0600
TZNAME:MDT
DTSTART:20240310T090000
END:DAYLIGHT
BEGIN:STANDARD
TZOFFSETFROM:-0600
TZOFFSETTO:-0700
TZNAME:MST
DTSTART:20241103T080000
END:STANDARD
BEGIN:DAYLIGHT
TZOFFSETFROM:-0700
TZOFFSETTO:-0600
TZNAME:MDT
DTSTART:20250309T090000
END:DAYLIGHT
BEGIN:STANDARD
TZOFFSETFROM:-0600
TZOFFSETTO:-0700
TZNAME:MST
DTSTART:20251102T080000
END:STANDARD
BEGIN:DAYLIGHT
TZOFFSETFROM:-0700
TZOFFSETTO:-0600
TZNAME:MDT
DTSTART:20260308T090000
END:DAYLIGHT
BEGIN:STANDARD
TZOFFSETFROM:-0600
TZOFFSETTO:-0700
TZNAME:MST
DTSTART:20261101T080000
END:STANDARD
END:VTIMEZONE
BEGIN:VEVENT
DTSTART;VALUE=DATE:20250920
DTEND;VALUE=DATE:20250921
DTSTAMP:20260423T041735
CREATED:20250525T164002Z
LAST-MODIFIED:20250525T164002Z
UID:10000052-1758326400-1758412799@www.steamboatgolfclub.com
SUMMARY:Push\, Pull\, or Drag 2-Person Team 27-Hole Walking Only Golf Tournament (Open to Public)
DESCRIPTION:Steamboat Golf Club will be hosting it’s Annual Push\, Pull or Drag Tournament on Saturday\, September 20th. \nShotgun start at 9:00AM \n2-Person Teams \n27-Holes \nWALKING ONLY! \n$120 Entry Per Team (Does Not Include Green Fees) – LUNCH INCLUDED! \nPayouts for 1st & 2nd Gross & Net – Shop Credit \n$10 Gross and $10 Net Optional Team Skins – Cash Payouts \nOpen to the public but in order to compete in the “Net” scoring\, players must have a USGA/GHIN Handicap. \n9-9-9 Format (First 9: 2-Person Scramble from White Tees\, Second 9: 2-Person Best Ball from Blue Tees\, Third 9: Alternate Shot from White Tees. \nMen over 70 years old with a combined team handicap over 90 and Ladies may play from the Gold Tees. \nRegistration will be available by signing up in the hallway at the clubhouse or by calling the clubhouse as the event gets closer.
URL:https://www.steamboatgolfclub.com/event/push-pull-or-drag-2-person-team-27-hole-walking-only-golf-tournament-open-to-public/
LOCATION:SGC\, HWY 40\, SS\, 80487
END:VEVENT
END:VCALENDAR