BEGIN:VCALENDAR
VERSION:2.0
PRODID:-//Steamboat Golf Club - ECPv6.15.18//NONSGML v1.0//EN
CALSCALE:GREGORIAN
METHOD:PUBLISH
X-WR-CALNAME:Steamboat Golf Club
X-ORIGINAL-URL:https://www.steamboatgolfclub.com
X-WR-CALDESC:Events for Steamboat Golf Club
REFRESH-INTERVAL;VALUE=DURATION:PT1H
X-Robots-Tag:noindex
X-PUBLISHED-TTL:PT1H
BEGIN:VTIMEZONE
TZID:America/Denver
BEGIN:DAYLIGHT
TZOFFSETFROM:-0700
TZOFFSETTO:-0600
TZNAME:MDT
DTSTART:20240310T090000
END:DAYLIGHT
BEGIN:STANDARD
TZOFFSETFROM:-0600
TZOFFSETTO:-0700
TZNAME:MST
DTSTART:20241103T080000
END:STANDARD
BEGIN:DAYLIGHT
TZOFFSETFROM:-0700
TZOFFSETTO:-0600
TZNAME:MDT
DTSTART:20250309T090000
END:DAYLIGHT
BEGIN:STANDARD
TZOFFSETFROM:-0600
TZOFFSETTO:-0700
TZNAME:MST
DTSTART:20251102T080000
END:STANDARD
BEGIN:DAYLIGHT
TZOFFSETFROM:-0700
TZOFFSETTO:-0600
TZNAME:MDT
DTSTART:20260308T090000
END:DAYLIGHT
BEGIN:STANDARD
TZOFFSETFROM:-0600
TZOFFSETTO:-0700
TZNAME:MST
DTSTART:20261101T080000
END:STANDARD
END:VTIMEZONE
BEGIN:VEVENT
DTSTART;TZID=America/Denver:20250927T080000
DTEND;TZID=America/Denver:20250927T110000
DTSTAMP:20260421T081716
CREATED:20250830T204422Z
LAST-MODIFIED:20250830T204422Z
UID:10000056-1758960000-1758970800@www.steamboatgolfclub.com
SUMMARY:Member Volunteer Day 9/27
DESCRIPTION:Steamboat Golf Club will be closed to Tee Times until 11am on Saturday\, September 27th for our Annual Members Volunteer Day. Members will be working on various duties around the clubhouse and course to help spruce things up for all of our golfers!
URL:https://www.steamboatgolfclub.com/event/member-volunteer-day-9-27/
LOCATION:SGC\, HWY 40\, SS\, 80487
END:VEVENT
END:VCALENDAR