BEGIN:VCALENDAR
VERSION:2.0
PRODID:-//Steamboat Golf Club - ECPv6.15.18//NONSGML v1.0//EN
CALSCALE:GREGORIAN
METHOD:PUBLISH
X-ORIGINAL-URL:https://www.steamboatgolfclub.com
X-WR-CALDESC:Events for Steamboat Golf Club
REFRESH-INTERVAL;VALUE=DURATION:PT1H
X-Robots-Tag:noindex
X-PUBLISHED-TTL:PT1H
BEGIN:VTIMEZONE
TZID:America/Denver
BEGIN:DAYLIGHT
TZOFFSETFROM:-0700
TZOFFSETTO:-0600
TZNAME:MDT
DTSTART:20240310T090000
END:DAYLIGHT
BEGIN:STANDARD
TZOFFSETFROM:-0600
TZOFFSETTO:-0700
TZNAME:MST
DTSTART:20241103T080000
END:STANDARD
BEGIN:DAYLIGHT
TZOFFSETFROM:-0700
TZOFFSETTO:-0600
TZNAME:MDT
DTSTART:20250309T090000
END:DAYLIGHT
BEGIN:STANDARD
TZOFFSETFROM:-0600
TZOFFSETTO:-0700
TZNAME:MST
DTSTART:20251102T080000
END:STANDARD
BEGIN:DAYLIGHT
TZOFFSETFROM:-0700
TZOFFSETTO:-0600
TZNAME:MDT
DTSTART:20260308T090000
END:DAYLIGHT
BEGIN:STANDARD
TZOFFSETFROM:-0600
TZOFFSETTO:-0700
TZNAME:MST
DTSTART:20261101T080000
END:STANDARD
END:VTIMEZONE
BEGIN:VEVENT
DTSTART;TZID=America/Denver:20251004T093000
DTEND;TZID=America/Denver:20251004T143000
DTSTAMP:20260421T083606
CREATED:20250521T172322Z
LAST-MODIFIED:20250919T160223Z
UID:10000044-1759570200-1759588200@www.steamboatgolfclub.com
SUMMARY:Men's Club Championship Day 1
DESCRIPTION:Steamboat Golf Club will host Day 1 of our Men’s Club Championship on Saturday\, October 4th @ 9:30AM. \nENTRY: $50 Per Person + Green Fees \nDATE: Saturday/Sunday\, October 4th & October 5th \nTIME: 9:30AM Shotgun Start \nFORMAT: 2-DAY 36-Hole (18 Holes Each Day) Net/Gross Individual Stroke Play \nPRIZES: Shop Credit Prizes for both Gross/Net. Position payouts and possibility of flights – depending on participation.  \nSKINS: Optional Gross & Net Skins ($5 Each) on each day \nFOOD: Complimentary Donuts/Coffee on both days. Lunch Included on 2nd Day of Tournament (Pulled Pork\, Beans\, Chips) \n*MUST be in Men’s Club to participate \nRegister by signing the sign-up sheet in the hallway of the clubhouse or by calling the clubhouse. \nPublic play will be back open on this day starting at 2:30PM.
URL:https://www.steamboatgolfclub.com/event/mens-club-championship-day-1/
LOCATION:SGC\, HWY 40\, SS\, 80487
END:VEVENT
END:VCALENDAR