BEGIN:VCALENDAR
VERSION:2.0
PRODID:-//Steamboat Golf Club - ECPv6.15.18//NONSGML v1.0//EN
CALSCALE:GREGORIAN
METHOD:PUBLISH
X-WR-CALNAME:Steamboat Golf Club
X-ORIGINAL-URL:https://www.steamboatgolfclub.com
X-WR-CALDESC:Events for Steamboat Golf Club
REFRESH-INTERVAL;VALUE=DURATION:PT1H
X-Robots-Tag:noindex
X-PUBLISHED-TTL:PT1H
BEGIN:VTIMEZONE
TZID:America/Denver
BEGIN:DAYLIGHT
TZOFFSETFROM:-0700
TZOFFSETTO:-0600
TZNAME:MDT
DTSTART:20240310T090000
END:DAYLIGHT
BEGIN:STANDARD
TZOFFSETFROM:-0600
TZOFFSETTO:-0700
TZNAME:MST
DTSTART:20241103T080000
END:STANDARD
BEGIN:DAYLIGHT
TZOFFSETFROM:-0700
TZOFFSETTO:-0600
TZNAME:MDT
DTSTART:20250309T090000
END:DAYLIGHT
BEGIN:STANDARD
TZOFFSETFROM:-0600
TZOFFSETTO:-0700
TZNAME:MST
DTSTART:20251102T080000
END:STANDARD
BEGIN:DAYLIGHT
TZOFFSETFROM:-0700
TZOFFSETTO:-0600
TZNAME:MDT
DTSTART:20260308T090000
END:DAYLIGHT
BEGIN:STANDARD
TZOFFSETFROM:-0600
TZOFFSETTO:-0700
TZNAME:MST
DTSTART:20261101T080000
END:STANDARD
END:VTIMEZONE
BEGIN:VEVENT
DTSTART;TZID=America/Denver:20251010T080000
DTEND;TZID=America/Denver:20251010T120000
DTSTAMP:20260421T094947
CREATED:20250518T174412Z
LAST-MODIFIED:20250808T180725Z
UID:10000037-1760083200-1760097600@www.steamboatgolfclub.com
SUMMARY:Deep Tine Aeration 10/10 - Course Closed Until Around Noon
DESCRIPTION:Steamboat Golf Club will be Deep Tine Aerating on Friday\, October 10th. The course will be closed for around 2-3 hours after our first Tee Time. We should be able to open Tee Times back up around noon.
URL:https://www.steamboatgolfclub.com/event/deep-tine-aeration-10-10-course-closed-until-around-noon/
END:VEVENT
END:VCALENDAR