BEGIN:VCALENDAR
VERSION:2.0
PRODID:-//Steamboat Golf Club - ECPv6.15.18//NONSGML v1.0//EN
CALSCALE:GREGORIAN
METHOD:PUBLISH
X-WR-CALNAME:Steamboat Golf Club
X-ORIGINAL-URL:https://www.steamboatgolfclub.com
X-WR-CALDESC:Events for Steamboat Golf Club
REFRESH-INTERVAL;VALUE=DURATION:PT1H
X-Robots-Tag:noindex
X-PUBLISHED-TTL:PT1H
BEGIN:VTIMEZONE
TZID:America/Denver
BEGIN:DAYLIGHT
TZOFFSETFROM:-0700
TZOFFSETTO:-0600
TZNAME:MDT
DTSTART:20230312T090000
END:DAYLIGHT
BEGIN:STANDARD
TZOFFSETFROM:-0600
TZOFFSETTO:-0700
TZNAME:MST
DTSTART:20231105T080000
END:STANDARD
BEGIN:DAYLIGHT
TZOFFSETFROM:-0700
TZOFFSETTO:-0600
TZNAME:MDT
DTSTART:20240310T090000
END:DAYLIGHT
BEGIN:STANDARD
TZOFFSETFROM:-0600
TZOFFSETTO:-0700
TZNAME:MST
DTSTART:20241103T080000
END:STANDARD
BEGIN:DAYLIGHT
TZOFFSETFROM:-0700
TZOFFSETTO:-0600
TZNAME:MDT
DTSTART:20250309T090000
END:DAYLIGHT
BEGIN:STANDARD
TZOFFSETFROM:-0600
TZOFFSETTO:-0700
TZNAME:MST
DTSTART:20251102T080000
END:STANDARD
END:VTIMEZONE
BEGIN:VEVENT
DTSTART;TZID=America/Denver:20240908T160000
DTEND;TZID=America/Denver:20240908T180000
DTSTAMP:20260422T070011
CREATED:20240609T163023Z
LAST-MODIFIED:20240609T163023Z
UID:10000019-1725811200-1725818400@www.steamboatgolfclub.com
SUMMARY:Couples Day Tournament & Dinner
DESCRIPTION:Couples Day Tournaments & Dinner @ Steamboat Golf Club. Tee off @4pm on 6/9\, 7/14\, 8/11\, & 9/8
URL:https://www.steamboatgolfclub.com/event/couples-day-tournament-dinner/2024-09-08/
LOCATION:SGC\, HWY 40\, SS\, 80487
END:VEVENT
BEGIN:VEVENT
DTSTART;TZID=America/Denver:20240909T150000
DTEND;TZID=America/Denver:20240909T180000
DTSTAMP:20260422T070011
CREATED:20240604T195036Z
LAST-MODIFIED:20240604T200953Z
UID:10000012-1725894000-1725904800@www.steamboatgolfclub.com
SUMMARY:Routt County Council of Aging Tournament 3 PM Shotgun 9 Holes
DESCRIPTION:2:00 PM Check-in \n3:00 Shotgun \nDinner afterward
URL:https://www.steamboatgolfclub.com/event/routt-county-council-of-aging-tournament/
END:VEVENT
BEGIN:VEVENT
DTSTART;VALUE=DATE:20240914
DTEND;VALUE=DATE:20240915
DTSTAMP:20260422T070011
CREATED:20240609T164236Z
LAST-MODIFIED:20240609T164236Z
UID:10000021-1726272000-1726358399@www.steamboatgolfclub.com
SUMMARY:Yampa Cup Tournament @ Yampa Valley Golf Course
DESCRIPTION:Yampa Cup Tournament @ Yampa Valley Golf Course. Saturday\, September 14th @9:30am 18-Holes
URL:https://www.steamboatgolfclub.com/event/yampa-cup-tournament-yampa-valley-golf-course/
END:VEVENT
BEGIN:VEVENT
DTSTART;TZID=America/Denver:20240915T093000
DTEND;TZID=America/Denver:20240915T153000
DTSTAMP:20260422T070011
CREATED:20240514T185634Z
LAST-MODIFIED:20240604T200134Z
UID:10000006-1726392600-1726414200@www.steamboatgolfclub.com
SUMMARY:Yampa Cup - Steamboat Golf Club 9:30 AM Shotgun 18 Holes
DESCRIPTION:Yampa Cup Tournament @ Steamboat Golf Club
URL:https://www.steamboatgolfclub.com/event/yampa-cup-steamboat-golf-club/
LOCATION:SGC\, HWY 40\, SS\, 80487
END:VEVENT
BEGIN:VEVENT
DTSTART;TZID=America/Denver:20240927T093000
DTEND;TZID=America/Denver:20240927T150000
DTSTAMP:20260422T070011
CREATED:20240919T180437Z
LAST-MODIFIED:20240927T020626Z
UID:10000023-1727429400-1727449200@www.steamboatgolfclub.com
SUMMARY:City Championship @ SGC 9/27 9:30AM Shotgun Start
DESCRIPTION:Steamboat Golf Club will be hosting our portion of the 3-day City Championship event on Friday\, September 27th. The course will be closed to the Public from 9:30AM-3PM.
URL:https://www.steamboatgolfclub.com/event/city-championship-sgc-930am-shotgun-start/
LOCATION:SGC\, HWY 40\, SS\, 80487
END:VEVENT
BEGIN:VEVENT
DTSTART;TZID=America/Denver:20240928T140000
DTEND;TZID=America/Denver:20240928T170000
DTSTAMP:20260422T070011
CREATED:20240919T181438Z
LAST-MODIFIED:20240919T181438Z
UID:10000024-1727532000-1727542800@www.steamboatgolfclub.com
SUMMARY:Riverbend Memorial 9/28 2-5PM
DESCRIPTION:We will be hosting a Memorial on the outside deck on Saturday\, September 28th from 2-5PM to commemorate the late parents of long-time Member Todd Matheis. Todd’s parents owned and ran the beloved Riverbend Restaurant next door years ago but have since passed. The invite is open to anybody who would like to stop by and remember and celebrate their lives.
URL:https://www.steamboatgolfclub.com/event/riverbend-memorial-9-28-2-5pm/
LOCATION:SGC\, HWY 40\, SS\, 80487
END:VEVENT
END:VCALENDAR