BEGIN:VCALENDAR
VERSION:2.0
PRODID:-//Steamboat Golf Club - ECPv6.15.18//NONSGML v1.0//EN
CALSCALE:GREGORIAN
METHOD:PUBLISH
X-ORIGINAL-URL:https://www.steamboatgolfclub.com
X-WR-CALDESC:Events for Steamboat Golf Club
REFRESH-INTERVAL;VALUE=DURATION:PT1H
X-Robots-Tag:noindex
X-PUBLISHED-TTL:PT1H
BEGIN:VTIMEZONE
TZID:America/Denver
BEGIN:DAYLIGHT
TZOFFSETFROM:-0700
TZOFFSETTO:-0600
TZNAME:MDT
DTSTART:20230312T090000
END:DAYLIGHT
BEGIN:STANDARD
TZOFFSETFROM:-0600
TZOFFSETTO:-0700
TZNAME:MST
DTSTART:20231105T080000
END:STANDARD
BEGIN:DAYLIGHT
TZOFFSETFROM:-0700
TZOFFSETTO:-0600
TZNAME:MDT
DTSTART:20240310T090000
END:DAYLIGHT
BEGIN:STANDARD
TZOFFSETFROM:-0600
TZOFFSETTO:-0700
TZNAME:MST
DTSTART:20241103T080000
END:STANDARD
BEGIN:DAYLIGHT
TZOFFSETFROM:-0700
TZOFFSETTO:-0600
TZNAME:MDT
DTSTART:20250309T090000
END:DAYLIGHT
BEGIN:STANDARD
TZOFFSETFROM:-0600
TZOFFSETTO:-0700
TZNAME:MST
DTSTART:20251102T080000
END:STANDARD
END:VTIMEZONE
BEGIN:VEVENT
DTSTART;TZID=America/Denver:20241005T080000
DTEND;TZID=America/Denver:20241005T140000
DTSTAMP:20260422T052136
CREATED:20240919T182006Z
LAST-MODIFIED:20240919T182006Z
UID:10000025-1728115200-1728136800@www.steamboatgolfclub.com
SUMMARY:Men's Club Championship Day 1 10/5 9AM Shotgun Start
DESCRIPTION:Day 1 of our Men’s Club Championship Will be held on Saturday\, October 5th with a 9AM Shotgun Start. The course will be closed to the public until around 2PM.
URL:https://www.steamboatgolfclub.com/event/mens-club-championship-day-1-10-5-9am-shotgun-start/
LOCATION:SGC\, HWY 40\, SS\, 80487
END:VEVENT
BEGIN:VEVENT
DTSTART;TZID=America/Denver:20241006T080000
DTEND;TZID=America/Denver:20241006T140000
DTSTAMP:20260422T052136
CREATED:20240919T182303Z
LAST-MODIFIED:20240919T182303Z
UID:10000026-1728201600-1728223200@www.steamboatgolfclub.com
SUMMARY:Men's Club Championship Day 2 10/6 9AM Shotgun Start
DESCRIPTION:Day 2 of our Men’s Club Championship will be held on Sunday\, October 6th with a 9AM Shotgun Start. The course will be closed to the public until around 2PM.
URL:https://www.steamboatgolfclub.com/event/mens-club-championship-day-2-10-6-9am-shotgun-start/
LOCATION:SGC\, HWY 40\, SS\, 80487
END:VEVENT
BEGIN:VEVENT
DTSTART;TZID=America/Denver:20241007T140000
DTEND;TZID=America/Denver:20241007T190000
DTSTAMP:20260422T052136
CREATED:20240919T182958Z
LAST-MODIFIED:20240919T182958Z
UID:10000027-1728309600-1728327600@www.steamboatgolfclub.com
SUMMARY:Cutters Cup Tournament 10/7 2PM Shotgun Start
DESCRIPTION:On Monday October 7th\, Steamboat Golf Club will be hosting the Cutters Cup Tournament. This tournament is amongst the maintenance crews across the Yampa Valley. There will be a shotgun start at 2PM.
URL:https://www.steamboatgolfclub.com/event/cutters-cup-tournament-10-7-2pm-shotgun-start/
LOCATION:SGC\, HWY 40\, SS\, 80487
END:VEVENT
BEGIN:VEVENT
DTSTART;TZID=America/Denver:20241008T080000
DTEND;TZID=America/Denver:20241008T140000
DTSTAMP:20260422T052136
CREATED:20240919T183229Z
LAST-MODIFIED:20240919T183229Z
UID:10000028-1728374400-1728396000@www.steamboatgolfclub.com
SUMMARY:Green Aeration October 8th
DESCRIPTION:Steamboat Golf Club will be aerating the greens on Tuesday\, October 8th. The course will be closed to the public from open until 2PM.
URL:https://www.steamboatgolfclub.com/event/green-aeration-october-8th/
LOCATION:SGC\, HWY 40\, SS\, 80487
END:VEVENT
BEGIN:VEVENT
DTSTART;TZID=America/Denver:20241009T080000
DTEND;TZID=America/Denver:20241009T120000
DTSTAMP:20260422T052136
CREATED:20240919T183413Z
LAST-MODIFIED:20240919T183413Z
UID:10000029-1728460800-1728475200@www.steamboatgolfclub.com
SUMMARY:Deep-Tine Aeration October 9th
DESCRIPTION:Steamboat Golf Club will be having Deep-Tine Aeration done on Wednesday\, October 9th. The course will be closed to the Public until noon.
URL:https://www.steamboatgolfclub.com/event/deep-tine-aeration-october-9th/
LOCATION:SGC\, HWY 40\, SS\, 80487
END:VEVENT
BEGIN:VEVENT
DTSTART;VALUE=DATE:20241019
DTEND;VALUE=DATE:20241020
DTSTAMP:20260422T052136
CREATED:20241007T213900Z
LAST-MODIFIED:20241007T213929Z
UID:10000031-1729296000-1729382399@www.steamboatgolfclub.com
SUMMARY:Push\, Pull\, Drag Tournament Saturday\, October 19th
DESCRIPTION:Annual Push\, Pull\, Drag Golf Tournament. 2-Person Teams\, 27-Holes WALKING ONLY! Saturday\, October 19th 10AM Shotgun Start. $30/Player.
URL:https://www.steamboatgolfclub.com/event/push-pull-drag-tournament-saturday-october-19th/
LOCATION:SGC\, HWY 40\, SS\, 80487
END:VEVENT
BEGIN:VEVENT
DTSTART;TZID=America/Denver:20241025T180000
DTEND;TZID=America/Denver:20241025T200000
DTSTAMP:20260422T052136
CREATED:20240919T184103Z
LAST-MODIFIED:20240919T184103Z
UID:10000030-1729879200-1729886400@www.steamboatgolfclub.com
SUMMARY:Member Dinner Party Friday\, October 25th @6PM
DESCRIPTION:Steamboat Golf Club will be hosting our annual Member Dinner Party on Friday\, October 25th at the Community Center starting at 6PM. This event is exclusive for Members and their +1 only. There will be drinks\, dinner and raffle prizes! The dinner will be catered by the much-loved\, Steve Carlson.
URL:https://www.steamboatgolfclub.com/event/member-dinner-party-friday-october-25th-6pm/
LOCATION:Community Center
END:VEVENT
END:VCALENDAR