BEGIN:VCALENDAR
VERSION:2.0
PRODID:-//Steamboat Golf Club - ECPv6.15.18//NONSGML v1.0//EN
CALSCALE:GREGORIAN
METHOD:PUBLISH
X-ORIGINAL-URL:https://www.steamboatgolfclub.com
X-WR-CALDESC:Events for Steamboat Golf Club
REFRESH-INTERVAL;VALUE=DURATION:PT1H
X-Robots-Tag:noindex
X-PUBLISHED-TTL:PT1H
BEGIN:VTIMEZONE
TZID:America/Denver
BEGIN:DAYLIGHT
TZOFFSETFROM:-0700
TZOFFSETTO:-0600
TZNAME:MDT
DTSTART:20240310T090000
END:DAYLIGHT
BEGIN:STANDARD
TZOFFSETFROM:-0600
TZOFFSETTO:-0700
TZNAME:MST
DTSTART:20241103T080000
END:STANDARD
BEGIN:DAYLIGHT
TZOFFSETFROM:-0700
TZOFFSETTO:-0600
TZNAME:MDT
DTSTART:20250309T090000
END:DAYLIGHT
BEGIN:STANDARD
TZOFFSETFROM:-0600
TZOFFSETTO:-0700
TZNAME:MST
DTSTART:20251102T080000
END:STANDARD
BEGIN:DAYLIGHT
TZOFFSETFROM:-0700
TZOFFSETTO:-0600
TZNAME:MDT
DTSTART:20260308T090000
END:DAYLIGHT
BEGIN:STANDARD
TZOFFSETFROM:-0600
TZOFFSETTO:-0700
TZNAME:MST
DTSTART:20261101T080000
END:STANDARD
END:VTIMEZONE
BEGIN:VEVENT
DTSTART;TZID=America/Denver:20250608T160000
DTEND;TZID=America/Denver:20250608T183000
DTSTAMP:20260421T082242
CREATED:20250518T155434Z
LAST-MODIFIED:20250525T174516Z
UID:10000032-1749398400-1749407400@www.steamboatgolfclub.com
SUMMARY:June Couples Tournament (Open to Public)
DESCRIPTION:JUNE COUPLES TOURNAMENT \n-Sunday\, June 8th @ 4PM (No Shotgun Start) \n-$20 Per Couple Tournament Entry Fee + Green Fees \n-Scramble Format (9-Holes) \n-Prizes for Gross/Net – Shop Credit \n-Dinner will be served afterwards for an additional fee \n-Register by signing names on the sign-up sheet in the hallway or by calling the clubhouse.
URL:https://www.steamboatgolfclub.com/event/june-couples-tournament/
LOCATION:SGC\, HWY 40\, SS\, 80487
END:VEVENT
END:VCALENDAR