BEGIN:VCALENDAR
VERSION:2.0
PRODID:-//Steamboat Golf Club - ECPv6.15.18//NONSGML v1.0//EN
CALSCALE:GREGORIAN
METHOD:PUBLISH
X-ORIGINAL-URL:https://www.steamboatgolfclub.com
X-WR-CALDESC:Events for Steamboat Golf Club
REFRESH-INTERVAL;VALUE=DURATION:PT1H
X-Robots-Tag:noindex
X-PUBLISHED-TTL:PT1H
BEGIN:VTIMEZONE
TZID:America/Denver
BEGIN:DAYLIGHT
TZOFFSETFROM:-0700
TZOFFSETTO:-0600
TZNAME:MDT
DTSTART:20240310T090000
END:DAYLIGHT
BEGIN:STANDARD
TZOFFSETFROM:-0600
TZOFFSETTO:-0700
TZNAME:MST
DTSTART:20241103T080000
END:STANDARD
BEGIN:DAYLIGHT
TZOFFSETFROM:-0700
TZOFFSETTO:-0600
TZNAME:MDT
DTSTART:20250309T090000
END:DAYLIGHT
BEGIN:STANDARD
TZOFFSETFROM:-0600
TZOFFSETTO:-0700
TZNAME:MST
DTSTART:20251102T080000
END:STANDARD
BEGIN:DAYLIGHT
TZOFFSETFROM:-0700
TZOFFSETTO:-0600
TZNAME:MDT
DTSTART:20260308T090000
END:DAYLIGHT
BEGIN:STANDARD
TZOFFSETFROM:-0600
TZOFFSETTO:-0700
TZNAME:MST
DTSTART:20261101T080000
END:STANDARD
END:VTIMEZONE
BEGIN:VEVENT
DTSTART;TZID=America/Denver:20250804T080000
DTEND;TZID=America/Denver:20250804T140000
DTSTAMP:20260421T053624
CREATED:20250521T170607Z
LAST-MODIFIED:20250525T173758Z
UID:10000040-1754294400-1754316000@www.steamboatgolfclub.com
SUMMARY:Jr City Championship @ SGC
DESCRIPTION:This multi-course Junior City Championship event will take place at Steamboat Golf Club on Monday\, August 4th. \n18-Holes \nStarting Tee Times will be assigned beginning at 8AM. \nThe Tee Sheet will be back open to the public on August 4th at 12:30PM.
URL:https://www.steamboatgolfclub.com/event/jr-city-championship-sgc/
LOCATION:SGC\, HWY 40\, SS\, 80487
END:VEVENT
BEGIN:VEVENT
DTSTART;TZID=America/Denver:20250805T090000
DTEND;TZID=America/Denver:20250805T230000
DTSTAMP:20260421T053624
CREATED:20250521T171120Z
LAST-MODIFIED:20250521T171120Z
UID:10000041-1754384400-1754434800@www.steamboatgolfclub.com
SUMMARY:Ladies Club Championship - Round 1
DESCRIPTION:Steamboat Golf Club will host Round 1 of our Ladies Club Championship on Tuesday\, August 5th @ 9AM. This event is exclusively for Ladies Club Members. \nPublic play will be back open on this day starting after 10AM.
URL:https://www.steamboatgolfclub.com/event/ladies-club-championship-round-1/
LOCATION:SGC\, HWY 40\, SS\, 80487
END:VEVENT
BEGIN:VEVENT
DTSTART;TZID=America/Denver:20250806T083000
DTEND;TZID=America/Denver:20250806T123000
DTSTAMP:20260421T053624
CREATED:20250523T145528Z
LAST-MODIFIED:20250612T190927Z
UID:10000048-1754469000-1754483400@www.steamboatgolfclub.com
SUMMARY:SGC Vs. Grand Lake @ Grand Lake (Men's Club Event)
DESCRIPTION:Steamboat Golf Club Men’s Club will be challenging Grand Lake’s Men’s Club in this annual event @ Grand Lake Golf Club on Wednesday\, August 6th. \n18-Hole Tournament \nShotgun Start @ 8:30AM – golfers are asked to arrive before 8AM to check in and get organized. \nEntry Fee will be $60 (paid only by the Grand Lake participants) – Green Fees\, Cart and Lunch included \n2-Man Net Best Ball Match Play Format \nNet/Gross skins will be optional for $5 each \nScoring for the tournament will allow for 3 available points for each 4-some (1 point for each 9 and 1 point for the 18) \nRegistration for the tournament is now available by signing up on the sheet in the hallway or by calling the clubhouse. We will have a maximum # of 24 participants from our Men’s Club. \nThis event will not effect our Tee Sheet.
URL:https://www.steamboatgolfclub.com/event/sgc-vs-grand-lake-grand-lake-mens-club-event/
END:VEVENT
BEGIN:VEVENT
DTSTART;TZID=America/Denver:20250809T080000
DTEND;TZID=America/Denver:20250809T130000
DTSTAMP:20260421T053624
CREATED:20250525T160344Z
LAST-MODIFIED:20250612T190759Z
UID:10000051-1754726400-1754744400@www.steamboatgolfclub.com
SUMMARY:Two-Person Best Ball Tournament (Open to Public)
DESCRIPTION:Steamboat Golf Club will be hosting it’s Annual Two-Person Best Ball Tournament on Saturday\, August 9th. \nShotgun start at 8:00AM \n18-Hole Tournament \n2-Person Team Best Ball (Each player plays their own ball – best score per hole of the 2-person team) \n$120 Entry Per Team (Does Not Include Green Fees) – LUNCH INCLUDED! \nPayouts for 1st & 2nd Gross & Net – Shop Credit \n$10 Gross and $10 Net Optional Individual Skins – Cash Payouts \nOpen to the public but in order to compete in the “Net” scoring\, players must have a USGA/GHIN Handicap. \nRegistration is now open by signing up in the hallway at the clubhouse or by calling the clubhouse.. \nTee Times will be back open to the public on this day starting at 1PM
URL:https://www.steamboatgolfclub.com/event/two-person-best-ball-tournament-open-to-public/
LOCATION:SGC\, HWY 40\, SS\, 80487
END:VEVENT
BEGIN:VEVENT
DTSTART;TZID=America/Denver:20250810T160000
DTEND;TZID=America/Denver:20250810T183000
DTSTAMP:20260421T053624
CREATED:20250518T164714Z
LAST-MODIFIED:20250525T174634Z
UID:10000034-1754841600-1754850600@www.steamboatgolfclub.com
SUMMARY:August Couples Tournament (Open to Public)
DESCRIPTION:AUGUST COUPLES TOURNAMENT \n-Sunday\, August 10th @ 4PM (No Shotgun Start) \n-$20 Per Couple Tournament Entry Fee + Green Fees \n-Alternate Shot Format (9-Holes) \n-Prizes for Gross/Net – Shop Credit \n-Dinner will be served afterwards for an additional fee \n-Register by signing names on the sign-up sheet in the hallway or by calling the clubhouse.
URL:https://www.steamboatgolfclub.com/event/august-couples-tournament/
LOCATION:SGC\, HWY 40\, SS\, 80487
END:VEVENT
BEGIN:VEVENT
DTSTART;TZID=America/Denver:20250812T090000
DTEND;TZID=America/Denver:20250812T110000
DTSTAMP:20260421T053624
CREATED:20250521T171247Z
LAST-MODIFIED:20250521T171247Z
UID:10000042-1754989200-1754996400@www.steamboatgolfclub.com
SUMMARY:Ladies Club Championship - Round 2
DESCRIPTION:Steamboat Golf Club will host Round 2 of our Ladies Club Championship on Tuesday\, August 12th @ 9AM. This event is exclusively for Ladies Club Members. \nPublic play will be back open on this day starting after 10AM.
URL:https://www.steamboatgolfclub.com/event/ladies-club-championship-round-2/
LOCATION:SGC\, HWY 40\, SS\, 80487
END:VEVENT
BEGIN:VEVENT
DTSTART;TZID=America/Denver:20250819T090000
DTEND;TZID=America/Denver:20250819T110000
DTSTAMP:20260421T053624
CREATED:20250521T171431Z
LAST-MODIFIED:20250521T171431Z
UID:10000043-1755594000-1755601200@www.steamboatgolfclub.com
SUMMARY:Ladies Club Championship - Final Round
DESCRIPTION:Steamboat Golf Club will host Round 3 (Final Round) of our Ladies Club Championship on Tuesday\, August 19th @ 9AM. This event is exclusively for Ladies Club Members. \nPublic play will be back open on this day starting after 10AM.
URL:https://www.steamboatgolfclub.com/event/ladies-club-championship-final-round/
LOCATION:SGC\, HWY 40\, SS\, 80487
END:VEVENT
BEGIN:VEVENT
DTSTART;TZID=America/Denver:20250823T080000
DTEND;TZID=America/Denver:20250823T130000
DTSTAMP:20260421T053624
CREATED:20250612T162122Z
LAST-MODIFIED:20250612T191000Z
UID:10000054-1755936000-1755954000@www.steamboatgolfclub.com
SUMMARY:Yampa Cup @ SGC (Men's Club Event)
DESCRIPTION:Steamboat Golf Club Men’s Club will be hosting Yampa Valley Golf Course Men’s Club in this annual 2-day event @ Steamboat Golf Club on Saturday\, August 23rd. The second day of this event will take place at Yampa Valley Golf Course on Sunday\, August 24th. \n18-Hole Tournament \nShotgun Start @ 8:00AM – golfers are asked to arrive before 7:30AM to check in and get organized. \nEntry Fee for SGC Men’s Club participants will be $60 (This covers golf and food at SGC & Yampa Valley Golf Course as well as an SGC Yampa Cup golf shirt). Golf carts will be an additional fee at both locations. \n1st Day @ SGC: 2-Man Net Best Ball Match Play Format \n2nd Day @ YVGC: 1v1 Net Match Play \nNet/Gross skins will be optional for $5 each \nRegistration for the tournament is now available by signing up on the sheet in the hallway or by calling the clubhouse. We will have a maximum # of 22 participants from our Men’s Club. \nThe Tee Sheet will be back open to the public after 1PM on this day.
URL:https://www.steamboatgolfclub.com/event/yampa-cup-sgc-mens-club-event/
LOCATION:SGC\, HWY 40\, SS\, 80487
END:VEVENT
BEGIN:VEVENT
DTSTART;TZID=America/Denver:20250824T080000
DTEND;TZID=America/Denver:20250824T130000
DTSTAMP:20260421T053624
CREATED:20250612T162438Z
LAST-MODIFIED:20250612T191331Z
UID:10000055-1756022400-1756040400@www.steamboatgolfclub.com
SUMMARY:Yampa Cup @ YVGC (Men's Club Event)
DESCRIPTION:Steamboat Golf Club Men’s Club will be challenging Yampa Valley Golf Course Men’s Club in this annual 2-day event @ Yampa Valley Golf Club on Sunday\, August 24th. The first day of this event will take place at Steamboat Golf Club on Saturday\, August 23rd. \n18-Hole Tournament \nShotgun Start @ 8:00AM – golfers are asked to arrive before 7:30AM to check in and get organized. \nEntry Fee for SGC Men’s Club participants will be $60 (This covers golf and food at SGC & Yampa Valley Golf Course as well as an SGC Yampa Cup golf shirt). Golf carts will be an additional fee at both locations. \n1st Day @ SGC: 2-Man Net Best Ball Match Play Format \n2nd Day @ YVGC: 1v1 Net Match Play \nNet/Gross skins will be optional for $5 each \nRegistration for the tournament is now available by signing up on the sheet in the hallway or by calling the clubhouse. We will have a maximum # of 22 participants from our Men’s Club. \nThe Tee Sheet will not be effected on this day because it is taking place at Yampa Valley Golf Course.
URL:https://www.steamboatgolfclub.com/event/yampa-cup-yvgc-mens-club-event/
END:VEVENT
END:VCALENDAR